BEGIN:VCALENDAR
VERSION:2.0
X-WR-TIMEZONE:Europe/Paris
PRODID:-//Audencia//NONSGML v1.0//EN
CALSCALE:GREGORIAN
BEGIN:VEVENT
SUMMARY:Audencia Around the World 2021: the journey continues in London
DTSTART:20210331T200000
DTEND:20210331T210000
UID:939
DTSTAMP:20260425T210022
LOCATION:
DESCRIPTION:\n\n\nAudencia Around the World: the journey continues to London\nWhat has been happening in the English music scene?\nDoes that song sound familiar?\n\nJoin the London chapter for a fun and informal music quiz! You'll get to set up a team of 3-5 people beforehand (for the competitive spirits out there, here's a hint: make your team intergenerational, you'll have more chances of winning the quiz)\n\n\n	Date: Wednesday 31 March 2021\n	Time: from 19:00 LONDON time // 20:00 PARIS time\n	Venue: Online (register now and we'll we'll send you the link)\n\n\nTo discover other cities which are hosting an Around the World event, click on the image below\n \n\n\n\n \n\n\nDon't go yet!\nWe have two more messages to share with you:\n\nAudencia Foundation's call for solidarity\n\n\n\n\nNow, more than ever, our international students are in need of critical financial support.\nMake a donation during AATW to help pay living expenses for a struggling student.\nYour donation, in any amount, shows your solidarity with our students who are building the world of tomorrow.\nOur network is our greatest strength!\nFor more information\n\nAround the World photo booth\nDrop by, create your avatar, take your picture, send it/share it, and feature on the group photo that will be published at the end of the event!\nFollow this link\n\n
BEGIN:VALARM
ACTION:DISPLAY
TRIGGER:-PT60M
DESCRIPTION:Audencia Around the World 2021: the journey continues in London
END:VALARM
END:VEVENT
END:VCALENDAR