BEGIN:VCALENDAR
VERSION:2.0
X-WR-TIMEZONE:Europe/Paris
PRODID:-//Audencia//NONSGML v1.0//EN
CALSCALE:GREGORIAN
BEGIN:VEVENT
SUMMARY:MS MOS et le Think tank sport et Citoyenneté - Comment mobiliser les territoires français autour de Paris 2024 ?
DTSTART:20210322T173000
DTEND:20210322T190000
UID:935
DTSTAMP:20260425T205956
LOCATION:
DESCRIPTION:Les étudiants du MS MOS et le Think tank sport et Citoyenneté vous invitent à une table ronde sur "Comment mobiliser les territoires français autour de Paris 2024 ?" le lundi 22 mars 2021 à 17h30.\n\nAu programme :\n\n\n	\n	« Terre de Jeux 2024 » : un label pour mobiliser les territoires autour de Paris 2024 ?\n	\n	\n	Quels enjeux et quels défis pour les territoires labellisés ?\n	\n	\n	Comment contribuer à l’impact et l’héritage de l’événement ?\n	\n	\n	Questions / Réponses\n	\n\n\n\nLes intervenants :\n\n\n	\n	Raphaël LECLERC, Responsable « Mobilisation des territoires », Paris 2024\n	\n	\n	Sybille BERTAIL-FASSAERT, Présidente de la commission « Éducation, vie associative, culturelle et sportive » du Département de l’Aube\n	\n	\n	Jean-Loup CHAPPELET, Professeur émérite à l’université de Lausanne, Membre du Comité Scientifique du Think tank Sport et Citoyenneté.\n	\n	\n	Florence ALIX-GRAVELLIER, Vice-présidente de la Fédération Française de Tennis en charge du développement des pratiques, Ancienne joueuse de tennis-fauteuil\n	\n\n\n \nModération : Julian JAPPERT, Directeur général de Sport et Citoyenneté, accompagné des étudiants du MS MOS d’Audencia.\n \n\nA suivre sur la chaîne Twitch de Audencia TV
BEGIN:VALARM
ACTION:DISPLAY
TRIGGER:-PT60M
DESCRIPTION:MS MOS et le Think tank sport et Citoyenneté - Comment mobiliser les territoires français autour de Paris 2024 ?
END:VALARM
END:VEVENT
END:VCALENDAR