BEGIN:VCALENDAR
VERSION:2.0
X-WR-TIMEZONE:Europe/Paris
PRODID:-//Audencia//NONSGML v1.0//EN
CALSCALE:GREGORIAN
BEGIN:VEVENT
SUMMARY:Webinar: Making your work more meaningful
DTSTART:20210323T130000
DTEND:20210323T140000
UID:934
DTSTAMP:20260425T210005
LOCATION:
DESCRIPTION:DATE: Tuesday 23 March 2021\nTIME: 13:00-14:00 Paris time\n\n\nFinding meaning in work is not a “nice to have”. It is a critical component of a good life. But many of us struggle to see the value of our work, or face an environment that actively undermines it. A new job, or a whole new career, can seem like the only solution.\n\nThis is wrong. Although there are any number of reasons that work can feel frustrating, research provides a growing understanding of the conditions we all need to experience a sense of purpose professionally.\n\nAlso, there are actions we can all take ourselves to feel a sense of meaning at work. And many things that managers and organisations can do to enable this.\n\nIn this webinar we will explore the main drivers of meaning (hint: autonomy is key) and show how each of us can re-engineer our work to generate meaning.\n\nWe will discuss:\n\n\n	The four factors which drive a sense of meaning at work\n	The role of mastery, feedback and values\n	How to find colleagues, customers and others who energise you (and why it matters so much)\n	Why you should aim to interact with the beneficiaries of your work\n	How side gigs and projects can give you a meaning fix\n	When and how to look for a new – more meaningful – job or career\n\n\nFinally we will explore the concept of intentionality: the idea that we should always be choosing our future even when we face only difficult choices or have limited room for manoeuvre.\n \n\nREGISTRATION\nWe have 200 free tickets for Audencia's alumni and students\n(use code "audstudent" if ticket does not show)\n\n\n
BEGIN:VALARM
ACTION:DISPLAY
TRIGGER:-PT60M
DESCRIPTION:Webinar: Making your work more meaningful
END:VALARM
END:VEVENT
END:VCALENDAR