BEGIN:VCALENDAR
VERSION:2.0
X-WR-TIMEZONE:Europe/Paris
PRODID:-//Audencia//NONSGML v1.0//EN
CALSCALE:GREGORIAN
BEGIN:VEVENT
SUMMARY:MBA Insights: women in leadership conference
DTSTART:20210406T181500
DTEND:20210406T193000
UID:933
DTSTAMP:20260425T205957
LOCATION:
DESCRIPTION:\n\nHave Audencia’s MBA alumnae broken the glass ceiling? What qualities have made them grow? What challenges have they faced along the way? How have they adapted their leadership style?\n\nJoin the first of the MBA Insights conference series focusing on women in leadership.\n\nWhen: Tuesday 6 April\nTime: 18:15-19:15\n\nWith an inspiring panel of MBA alumnae and guest speakers:\n \n\n	Victoria Gathogo, FT MBA 2016, Partnerships & Community Engagement Manager, Kenya\n	Farida Ghannam, Exec MBA 2019, Maintenance and Project Manager, first woman officer in the Algerian merchant navy, Algeria\n	Franca Vossen, EuroMBA 2006, Non-executive Director & Chief Risk Officer, The Netherlands\n\n\n \n\n\nREGISTER NOW on Together!\n \n\nOn the day, please use the following link to connect to the conference via Teams\n\nteams.microsoft.com/l/meetup-join/19%3ameeting_ZDg0MWRmMDEtMWQ0Ni00YjVlLTljZWQtMWQyMTAwZmQxMDhm%40thread.v2/0?context=%7b%22Tid%22%3a%227a879e87-03b2-441a-a2e3-3bbdc5b62f1f%22%2c%22Oid%22%3a%22fab17cee-83fa-4f5e-9537-c206995619ab%22%7d
BEGIN:VALARM
ACTION:DISPLAY
TRIGGER:-PT60M
DESCRIPTION:MBA Insights: women in leadership conference
END:VALARM
END:VEVENT
END:VCALENDAR