BEGIN:VCALENDAR
VERSION:2.0
X-WR-TIMEZONE:Europe/Paris
PRODID:-//Audencia//NONSGML v1.0//EN
CALSCALE:GREGORIAN
BEGIN:VEVENT
SUMMARY:Club assurance - partage d'expériences
DTSTART:20210608T183000
DTEND:20210608T200000
UID:932
DTSTAMP:20260425T205950
LOCATION:
DESCRIPTION: \n\n \n\nReport de la rencontre initialement prévue le 9 avril, suite aux annonces gouvernementales\n\n\n\nPlan d'Epargne Retraite (PER), dépendance, transition climatique dans les investissements...\n\nVenez échanger et partager vos retours d'expérience !\n\n\n\nLes Ambassadrices du club Assurance, Virginie Buquet (GE 02), Gaëlle Gaudicheau (MBA 12) et Oriane Valdelièvre (GE 13), vous proposent de vous retrouver le mardi 8 juin à 18h30 en distanciel.\nChaque Alumni a 10min maximum pour partager un retour d'expérience. Vous souhaitez participer à enrichir cette rencontre ? Envoyez votre thème à Laetitia Caliez : lcaliez@audencia.com.\n\n\nAu programme :\n\n\n\nGaëlle Gaudicheau (MBA 12) partagera son expérience du PER au sein de son entreprise, le Groupe Vyv.\n\n\n\n\nVirginie Buquet (GE 02) parlera de la dépendance en s'appuyant sur le livre blanc Synaxia Conseil.\n\n\n\n\nOriane Valdelièvre (GE 13) évoquera la transition climatique dans les investissements au sein du Groupe AXA.\n\n\n\n\nVous avez la parole !\nEt vous ? Si vous partagiez également votre expérience ? N'hésitez pas à envoyer un e-mail à lcaliez@audencia.com pour soumettre un sujet pendant 10 min maximum.\n\n \n\nPour nous rejoindre :\nhttps://cutt.ly/wncecqb\n \n\n
BEGIN:VALARM
ACTION:DISPLAY
TRIGGER:-PT60M
DESCRIPTION:Club assurance - partage d'expériences
END:VALARM
END:VEVENT
END:VCALENDAR