BEGIN:VCALENDAR
VERSION:2.0
X-WR-TIMEZONE:Europe/Paris
PRODID:-//Audencia//NONSGML v1.0//EN
CALSCALE:GREGORIAN
BEGIN:VEVENT
SUMMARY:Webinar HUAWEI: The Sustainability Journey in the Tech Sector
DTSTART:20210326T100000
DTEND:20210326T110000
UID:931
DTSTAMP:20260425T210146
LOCATION:
DESCRIPTION:“ICT4SDGs: The Sustainability Journey in the Tech sector” by Holy RANAIVOZANANY, the Head of Global Corporate Responsibility, Huawei Technologies\n\nHoly RANAIVOZANANY is responsible for global corporate citizenship initiatives, Sustainability stakeholders’ outreach and communications, covering 170+ countries in Huawei. She will talk about the leadership of technology companies in sustainability and how global companies create social value. She will also introduce Huawei Sustainability strategy and practices on technology for good.\n \nPrior to joining Huawei in 2011, Holy was in charge of Corporate Social Responsibility (CSR) in Africa, the Middle-East and Asia for Orange S.A., a French telecommunications operator, based in Paris, France. She acted as a Sustainability advisor in 20 countries and was the lead author of the company White Paper for senior leadership. She is the recipient of the CSR Leadership and Excellence Award from World CSR Day, recognizing the contribution made by individuals to drive Sustainability through the business.\n\n
BEGIN:VALARM
ACTION:DISPLAY
TRIGGER:-PT60M
DESCRIPTION:Webinar HUAWEI: The Sustainability Journey in the Tech Sector
END:VALARM
END:VEVENT
END:VCALENDAR