BEGIN:VCALENDAR
VERSION:2.0
X-WR-TIMEZONE:Europe/Paris
PRODID:-//Audencia//NONSGML v1.0//EN
CALSCALE:GREGORIAN
BEGIN:VEVENT
SUMMARY:Audencia Around the World 2021: the journey continues in West Africa
DTSTART:20210327T190000
DTEND:20210327T200000
UID:930
DTSTAMP:20260425T223707
LOCATION:
DESCRIPTION:\n\nIt's a hangout!\n\nWhether you are in Lagos, Nigeria, or even further afield in West or Central Africa, this year's Audencia Around the World is online. There's simply no excuse for not joining Oge and friends for a digital gathering:\n\nDate: Saturday 27 March\nTime: from 19.00 to 20.00\nVenue: online from your armchair\n\nClick on the above link to join the wonder.me discussion on the day!\nTo discover other cities which are hosting an Around the World event, click on the image below\n \n\n\n\n \n\n\nDon't go yet!\nWe have two more messages to share with you:\n\nAudencia Foundation's call for solidarity\n\n\n\n\nNow, more than ever, our international students are in need of critical financial support.\nMake a donation during AATW to help pay living expenses for a struggling student.\nYour donation, in any amount, shows your solidarity with our students who are building the world of tomorrow.\nOur network is our greatest strength!\nFor more information\n\nAround the World photo booth\nDrop by, create your avatar, take your picture, send it/share it, and feature on the group photo that will be published at the end of the event!\nFollow this link\n\n
BEGIN:VALARM
ACTION:DISPLAY
TRIGGER:-PT60M
DESCRIPTION:Audencia Around the World 2021: the journey continues in West Africa
END:VALARM
END:VEVENT
END:VCALENDAR