BEGIN:VCALENDAR
VERSION:2.0
X-WR-TIMEZONE:Europe/Paris
PRODID:-//Audencia//NONSGML v1.0//EN
CALSCALE:GREGORIAN
BEGIN:VEVENT
SUMMARY:Anniversaire de promotion Audencia SciencesCom 2007
DTSTART:20171007T170000
DTEND:20171007T235900
UID:93
DTSTAMP:20260425T205838
LOCATION:Nantes
DESCRIPTION:Cher(e)s diplômé(e)s, \n\nNous sommes heureux de vous convier le samedi 7 octobre 2017 aux 10 ans de votre promotion.\n\nNous vous attendons à 17 h au Médiacampus 41 boulevard de la prairie au duc pour une séquence souvenirs souvenirs..  puis à 18 h 30 nous nous retrouverons au Point Bar 38 Rue La Noue Bras de Fer pour un cocktail dînatoire dans une ambiance festive et décontractée. Le prix comprend différentes tapas et grignottes accompagnées des boissons (soupe angevine ou planteur, bières, vins et soft)\n\nPour participer à la soirée, cliquer sur s'inscrire sur together en haut à droite de l'écran.\n\nAu plaisir de vous retrouver nombreux le 07/10/2017\n 
BEGIN:VALARM
ACTION:DISPLAY
TRIGGER:-PT60M
DESCRIPTION:Anniversaire de promotion Audencia SciencesCom 2007
END:VALARM
END:VEVENT
END:VCALENDAR