BEGIN:VCALENDAR
VERSION:2.0
X-WR-TIMEZONE:Europe/Paris
PRODID:-//Audencia//NONSGML v1.0//EN
CALSCALE:GREGORIAN
BEGIN:VEVENT
SUMMARY:Café Français - en ligne
DTSTART:20210325T161500
DTEND:20210325T171500
UID:929
DTSTAMP:20260425T210011
LOCATION:
DESCRIPTION:Chères diplômées, chers diplômés,\n\nAprès l'annulation du dernier Café, nous vous proposons à nouveau un échange dans une ambiance détendue et en compagnie de nos étudiants MBA internationaux.\nL'idée est de converser en français sur des sujets divers et variés. \nFrancophone, vous avez envie de les aider à améliorer et à pratiquer leur français en créant du lien?\nVotre langue maternelle n'est pas le français et vous voyez ici l'opportunité de pratiquer avec des étudiants et des Alumni de votre réseau?\n\nVous êtes au bon endroit!\n \nRejoignez-nous le 25 mars à 16h15, pour une heure de discussion.\n \nLe thème du jour sera :\n"Les choses que l’on ne comprend pas en France"\n \nVous êtes depuis peu de temps en France et certaines choses vous paraissent étranges, vous voulez en savoir plus, alors préparez vos questions et nous essaieront d’y répondre ! \nVous vivez ici depuis un certain temps ou depuis toujours et vous connaissez bien les petits trucs typiquement français, alors venez aider nos étudiants à mieux comprendre la culture qu’ils découvrent en ce moment !\n\nMerci de vous inscrire ici.\nUn lien TEAMS vous sera transmis par message sur Together un jour avant le Café, le 24 mars.\n\nL'équipe Audencia Alumni
BEGIN:VALARM
ACTION:DISPLAY
TRIGGER:-PT60M
DESCRIPTION:Café Français - en ligne
END:VALARM
END:VEVENT
END:VCALENDAR