BEGIN:VCALENDAR
VERSION:2.0
X-WR-TIMEZONE:Europe/Paris
PRODID:-//Audencia//NONSGML v1.0//EN
CALSCALE:GREGORIAN
BEGIN:VEVENT
SUMMARY:Impactpool virtual career fair for women
DTSTART:20210325T110000
DTEND:20210325T160000
UID:928
DTSTAMP:20260425T210011
LOCATION:
DESCRIPTION:\nJoin us on Thursday 25 March from 11 AM - 4 PM (CET) and take advantage of this unique opportunity to engage in private text, audio and video chats with HR representatives from the participating organizations.\n \nRegistration: https://virtualcareerfairs.impactpool.org/event/4902\n \n   -  -  -  -  -  -  -  -  -  -  -  -  -  -  -  -  -  -  -  -  -  -  -  -  -  -   \nParticipating organizations:\n\n\n	World Health Organization (WHO)\n	United Nations High Commissioner for Refugees (UNHCR)\n	Asian Infrastructure Investment Bank (AIIB)\n	Organisation for the Prohibition of Chemical Weapons (OPCW)\n	United Nations Office for Project Services (UNOPS)\n	United Nations Office for the Coordination of Humanitarian Affairs (UN OCHA)\n	International Organization for Migration (IOM)\n	International Fund for Agricultural Development (IFAD)\n	Asian Development Bank (ADB)\n	International Development Law Organization (IDLO)\n	United Nations Development Programme (UNDP)\n\n This career event is free to attend for candidates, with limited capacity and an approval-based registration.\n\nWho should attend? International professional Women pursuing a career with a positive impact, currently working or seeking work in multilateral, bilateral, NGOs and other leading international organizations. Due to the highly accessible UI, Persons With Disabilities (PWDs) are encouraged to attend. \n\nPlease ensure you meet the essential criteria below before requesting to participate in this event. \n\n\n	4+ years of relevant international work experience\n	A Post-graduate degree (A Bachelors is accepted with more years of work experience) \n	Multilingual skills (Most organizations generally require working knowledge of their 2 official languages)\n	Are you motivated to work for an Impact/Development Organization or considering a return? \n\nThe event will be conducted in English.\nPlease note: organizations are based in various locations around the world and you will need to consider moving to the post location. \n 
BEGIN:VALARM
ACTION:DISPLAY
TRIGGER:-PT60M
DESCRIPTION:Impactpool virtual career fair for women
END:VALARM
END:VEVENT
END:VCALENDAR