BEGIN:VCALENDAR
VERSION:2.0
X-WR-TIMEZONE:Europe/Paris
PRODID:-//Audencia//NONSGML v1.0//EN
CALSCALE:GREGORIAN
BEGIN:VEVENT
SUMMARY:Audencia Around the World 2021: the journey continues in Tokyo
DTSTART:20210327T030000
DTEND:20210327T050000
UID:926
DTSTAMP:20260425T210141
LOCATION:Hibiya Koen 1 Hibiyakoen, Chiyoda City, Tokyo 100-0012
DESCRIPTION:\n\n\n\nAudencia Around the World: the journey continues in Tokyo\nJoin Audencians in Tokyo for time-honored Japanese tradition of cherry blossom viewing party.\nEveryone, friends and families are welcome to join. Keep masks on and bring your Audencia T-shirt if you have.\nLet's have some fun outside.\n\n\n	Date: Saturday 27 March 2021\n	Time: 11:00 onwards (Tokyo time) 03:00 onwards (Paris time)\n	Venue: Hibiya Koen\n\n\nTo discover other cities which are hosting an Around the World event, click on the image below\n \n\n\n\n \n\n\nDon't go yet!\nWe have two more messages to share with you:\n\nAudencia Foundation's call for solidarity\n\n\n\n\nNow, more than ever, our international students are in need of critical financial support.\nMake a donation during AATW to help pay living expenses for a struggling student.\nYour donation, in any amount, shows your solidarity with our students who are building the world of tomorrow.\nOur network is our greatest strength!\nFor more information\n\nAround the World photo booth\nDrop by, create your avatar, take your picture, send it/share it, and feature on the group photo that will be published at the end of the event!\nFollow this link\n\n\n\nQuestions? : nushad.merchant@audencia.com\n
BEGIN:VALARM
ACTION:DISPLAY
TRIGGER:-PT60M
DESCRIPTION:Audencia Around the World 2021: the journey continues in Tokyo
END:VALARM
END:VEVENT
END:VCALENDAR