BEGIN:VCALENDAR
VERSION:2.0
X-WR-TIMEZONE:Europe/Paris
PRODID:-//Audencia//NONSGML v1.0//EN
CALSCALE:GREGORIAN
BEGIN:VEVENT
SUMMARY:Audencia Around the World 2021: the journey continues in Singapore
DTSTART:20210401T123000
DTEND:20210401T143000
UID:924
DTSTAMP:20260425T210044
LOCATION:Restaurant #1: STPI, 41 Robertson Quay , #01-01, Singapore 238236  Restaurant #2: Wine Connection @ Robertson Walk - 11 Unity Street #01-06, Robertson Walk Singapore, Singapore 237995
DESCRIPTION:\n \n\n\nAudencia Around the World: the journey continues in Singapore\nJoin Audencians in Singapore for drinks & dinner. Its' time to catch up!\n\n\n\n	Date: Thursday 1 April 2021\n	Time: 18:30 onwards (Singapore time) 12:30 onwards (Paris time)\n	Venue:\n	\n		Restaurant #1: STPI, 41 Robertson Quay , #01-01, Singapore 238236\n		Restaurant #2: Wine Connection @ Robertson Walk - 11 Unity Street #01-06, Robertson Walk Singapore, Singapore 237995\n	\n	\n\n\nYour Chapter Ambassadors will communicate who goes to which restaurant.\nTo discover other cities which are hosting an Around the World event, click on the image below\n\n\n \n\nQuestions? : nushad.merchant@audencia.com\n\n \nDon't go yet!\nWe have two more messages to share with you:\n\nAudencia Foundation's call for solidarity\n\n\n\n\nNow, more than ever, our international students are in need of critical financial support.\nMake a donation during AATW to help pay living expenses for a struggling student.\nYour donation, in any amount, shows your solidarity with our students who are building the world of tomorrow.\nOur network is our greatest strength!\nFor more information\n\nAround the World photo booth\nDrop by, create your avatar, take your picture, send it/share it, and feature on the group photo that will be published at the end of the event!\nFollow this link\n\n\n
BEGIN:VALARM
ACTION:DISPLAY
TRIGGER:-PT60M
DESCRIPTION:Audencia Around the World 2021: the journey continues in Singapore
END:VALARM
END:VEVENT
END:VCALENDAR