BEGIN:VCALENDAR
VERSION:2.0
X-WR-TIMEZONE:Europe/Paris
PRODID:-//Audencia//NONSGML v1.0//EN
CALSCALE:GREGORIAN
BEGIN:VEVENT
SUMMARY:Audencia Around the World 2021: the journey continues in Spain
DTSTART:20210329T193000
DTEND:20210329T210000
UID:922
DTSTAMP:20260425T210027
LOCATION:
DESCRIPTION:\n \n\n\nAudencia Around the World: the journey continues in Spain\nJoin Audencians in Spain for an online cultural visit of "L’Escurial des Bourbons". So whether you are in Barcelona, Madrid, Valencia, or anywhere else in Spain, its' time to catch up!\n\n\n\n	Date: Monday 29 March 2021\n	Time: 19:30 onwards\n	Venue: From your couch\n\n\nBring along your favorite drink to enjoy this virtual tour.\nTo discover other cities which are hosting an Around the World event, click on the image below\n \n\n\n\n \n\n\nDon't go yet!\nWe have two more messages to share with you:\n\nAudencia Foundation's call for solidarity\n\n\n\n\nNow, more than ever, our international students are in need of critical financial support.\nMake a donation during AATW to help pay living expenses for a struggling student.\nYour donation, in any amount, shows your solidarity with our students who are building the world of tomorrow.\nOur network is our greatest strength!\nFor more information\n\nAround the World photo booth\nDrop by, create your avatar, take your picture, send it/share it, and feature on the group photo that will be published at the end of the event!\nFollow this link\n\n\n\n \n\n​Questions? : nushad.merchant@audencia.com\n
BEGIN:VALARM
ACTION:DISPLAY
TRIGGER:-PT60M
DESCRIPTION:Audencia Around the World 2021: the journey continues in Spain
END:VALARM
END:VEVENT
END:VCALENDAR