BEGIN:VCALENDAR
VERSION:2.0
X-WR-TIMEZONE:Europe/Paris
PRODID:-//Audencia//NONSGML v1.0//EN
CALSCALE:GREGORIAN
BEGIN:VEVENT
SUMMARY:Audencia Around the World 2021: the journey continues in Hong Kong
DTSTART:20210329T190000
DTEND:20210329T203000
UID:921
DTSTAMP:20260425T210656
LOCATION:Pak Tsz Lane Park 1 Pak Tsz Ln, Central Hong Kong
DESCRIPTION:\n\nC'est avec grand plaisir que nous invitons les Alumni de Hong Kong à venir se réunir autour d'un verre après de longs mois sans rassemblement le lundi 29 mars au soir.\n\nCe lieu accessible facilement, à Central, ne vous donnera aucune excuse pour ne pas venir saluer la communauté ! Eugène, notre photographe officiel, sera présent pour immortaliser ce moment.\n\nA très bientôt,\nEmma Cardon (MSCPM 15 & GE 16), votre Ambassadrice du chapter Hong Kong\n\n \n\n\nTo discover other cities which are hosting an Around the World event, click on the image below\n \n\n\n\n \n\n\nDon't go yet!\nWe have two more messages to share with you:\n\nAudencia Foundation's call for solidarity\n\n\n\n\nNow, more than ever, our international students are in need of critical financial support.\nMake a donation during AATW to help pay living expenses for a struggling student.\nYour donation, in any amount, shows your solidarity with our students who are building the world of tomorrow.\nOur network is our greatest strength!\nFor more information\n\nAround the World photo booth\nDrop by, create your avatar, take your picture, send it/share it, and feature on the group photo that will be published at the end of the event!\nFollow this link\n\n
BEGIN:VALARM
ACTION:DISPLAY
TRIGGER:-PT60M
DESCRIPTION:Audencia Around the World 2021: the journey continues in Hong Kong
END:VALARM
END:VEVENT
END:VCALENDAR