BEGIN:VCALENDAR
VERSION:2.0
X-WR-TIMEZONE:Europe/Paris
PRODID:-//Audencia//NONSGML v1.0//EN
CALSCALE:GREGORIAN
BEGIN:VEVENT
SUMMARY:Cocktail and networking in Tel-Aviv, Israel
DTSTART:20171019T183000
DTEND:20171019T200000
UID:92
DTSTAMP:20260425T205720
LOCATION:On the Rooftop of Mindspace Ehad Ahaam Street 54 Tel Aviv
DESCRIPTION:On the occasion of their learning expedition to Tel Aviv, the students and faculty of Audencia's Executive MBA programme would like to invite students and alumni in Tel-Aviv to a cocktail and networking evening:\n \non Thursday 19th October\nfrom 18.30 to 20.00\n\nOn the Rooftop of Mindspace\nEhad Ahaam Street 54\nTel Aviv
BEGIN:VALARM
ACTION:DISPLAY
TRIGGER:-PT60M
DESCRIPTION:Cocktail and networking in Tel-Aviv, Israel
END:VALARM
END:VEVENT
END:VCALENDAR