BEGIN:VCALENDAR
VERSION:2.0
X-WR-TIMEZONE:Europe/Paris
PRODID:-//Audencia//NONSGML v1.0//EN
CALSCALE:GREGORIAN
BEGIN:VEVENT
SUMMARY:Emission TV "Audencia en immersion... Au cœur de la communication et de l’écosystème Mediacampus !"
DTSTART:20210706T124500
DTEND:20210706T134500
UID:919
DTSTAMP:20260425T210050
LOCATION:
DESCRIPTION: \n\n\nInformation et communication responsables\nTransformation des pratiques et des formats de communication\nEmission TV\n\n \n\n\nSUIVEZ LE LIVE en direct sur :\nhttps://www.audencia.com/live/\n\n\n\n\nQuel que soit votre métier… installez-vous confortablement dans votre fauteuil, allumez la chaîne « Audencia en immersion » et c'est parti pour une plongée d’une heure au sein du Mediacampus.\n \nDernier né des Campus nantais d’Audencia, le Mediacampus est plus qu’un lieu, c’est une dynamique hors du commun où se rencontrent les acteurs de la formation, les chercheurs et les professionnels de la communication et des médias.\n \n\n	Comment se réinventer et former les acteurs de demain ?\n	Quels sont les leviers d’une information plus responsable ?\n	Comment l’écosystème Mediacampus participe à la transformation des pratiques et des formats de communication ?\n\n\nEn compagnie de Sylvie Chancelier, Directrice d'Audencia SciencesCom, Estelle Prusker, enseignante chercheuse pilote du Mediacampus, et Benoît Régent (GE 93), Directeur du département Prospective / Dentsu France, venez découvrir la dynamique, les entreprises, les projets qui font la richesse de cet écosystème.\n \nAvec notamment :\n- Marion Andro (SCOM 99), co-Présidente de l'Agence B Side ;\n- Robin Benham, responsable communication RH et interne groupe de Manitou Group ;\n- Johan Chiron (SCOM 03), co-fondateur de l'Incroyable Studio ;\n- Pierre-Adrien Roux, chargé de communication au CRIJ Pays de la Loire et intervenant coordinateur du blog Mediafactory ;\n- Florence Touzé, responsable du programme Communication de marque à Audencia SciencesCom, titulaire de la Chaire Impact Positif.\n…et plus d’invités à découvrir au cours de l’émission.\n \n \nVenez vous enrichir des expériences de cet univers inspirant de la communication et des médias avec nos invités !\n\n________________\nContact Audencia Alumni : Laëtitia Caliez, lcaliez@audencia.com\n 
BEGIN:VALARM
ACTION:DISPLAY
TRIGGER:-PT60M
DESCRIPTION:Emission TV "Audencia en immersion... Au cœur de la communication et de l’écosystème Mediacampus !"
END:VALARM
END:VEVENT
END:VCALENDAR