BEGIN:VCALENDAR
VERSION:2.0
X-WR-TIMEZONE:Europe/Paris
PRODID:-//Audencia//NONSGML v1.0//EN
CALSCALE:GREGORIAN
BEGIN:VEVENT
SUMMARY:Audencia Around the World 2021: the journey continues in New York
DTSTART:20210325T233000
DTEND:20210325T235900
UID:917
DTSTAMP:20260425T210149
LOCATION:
DESCRIPTION:\n\n\nAudencia Around the World: the journey continues in New York\nThis is a shout-out for homesick New-Yorkers!\nJoin your guide Laurene (GE 09) for the New York City quiz to (re)discover more about the city's secret history. After announcing the results of the team challenge, Laurene will invite you to wind down, head for the drinks cabinet and make your very own Manhattan cocktail. Cheers (and don't forget to have some bourdon, sweet vermouth, angostura and a maraschino cherry to hand)!\n\n\n\n	Date: Thursday 25 March 2021\n	Time: from 17:30 to 19:00 (New York time) 23:30 to 01:00 (Paris time)\n	Venue: Online via zoom\n\n\n\n\n	17:30 Introductions, setting up teams & breakout rooms\n	17:40 New York city quiz hosted by Laurene\n	18:25 Winning team announced\n	18:30 Participants prepare their Manhattan cocktail\n	18:50 Photobooth\n	19:00 Cheers!\n\n\nTo discover other cities which are hosting an Around the World event, click on the image below\n \n\n\n\n \n\n\nDon't go yet!\nWe have two more messages to share with you:\n\nAudencia Foundation's call for solidarity\n\n\n\n\nNow, more than ever, our international students are in need of critical financial support.\nMake a donation during AATW to help pay living expenses for a struggling student.\nYour donation, in any amount, shows your solidarity with our students who are building the world of tomorrow.\nOur network is our greatest strength!\nFor more information\n\nAround the World photo booth\nDrop by, create your avatar, take your picture, send it/share it, and feature on the group photo that will be published at the end of the event!\nFollow this link\n\n
BEGIN:VALARM
ACTION:DISPLAY
TRIGGER:-PT60M
DESCRIPTION:Audencia Around the World 2021: the journey continues in New York
END:VALARM
END:VEVENT
END:VCALENDAR