BEGIN:VCALENDAR
VERSION:2.0
X-WR-TIMEZONE:Europe/Paris
PRODID:-//Audencia//NONSGML v1.0//EN
CALSCALE:GREGORIAN
BEGIN:VEVENT
SUMMARY:Audencia Around the World 2021: the journey continues in Mexico City
DTSTART:20210327T170000
DTEND:20210327T180000
UID:916
DTSTAMP:20260425T205948
LOCATION:
DESCRIPTION:\n\n\nAudencia Around the World: the journey continues in Mexico City\nJoin Audencians from Mexico City for a yoga session. Grab a mat and get your screen set up en enjoy this morning date with a yoga teacher that is sure to put you in fine form for the rest of the weekend.\n\n\n\n	Date: Saturday 27 March 2021\n	Time: from 10:00 to 11:00 in Mexico City // 17:00 to 18:00 in Paris\n	Venue: online via Teams\n\n\nTo discover other cities which are hosting an Around the World event, click on the image below\n \n\n\n\n \n\n\nDon't go yet!\nWe have two more messages to share with you:\n\nAudencia Foundation's call for solidarity\n\n\n\n\nNow, more than ever, our international students are in need of critical financial support.\nMake a donation during AATW to help pay living expenses for a struggling student.\nYour donation, in any amount, shows your solidarity with our students who are building the world of tomorrow.\nOur network is our greatest strength!\nFor more information\n\nAround the World photo booth\nDrop by, create your avatar, take your picture, send it/share it, and feature on the group photo that will be published at the end of the event!\nFollow this link\n\n
BEGIN:VALARM
ACTION:DISPLAY
TRIGGER:-PT60M
DESCRIPTION:Audencia Around the World 2021: the journey continues in Mexico City
END:VALARM
END:VEVENT
END:VCALENDAR