BEGIN:VCALENDAR
VERSION:2.0
X-WR-TIMEZONE:Europe/Paris
PRODID:-//Audencia//NONSGML v1.0//EN
CALSCALE:GREGORIAN
BEGIN:VEVENT
SUMMARY:Audencia Around the World 2021: the journey continues in Copenhagen
DTSTART:20210329T170000
DTEND:20210329T180000
UID:913
DTSTAMP:20260425T210052
LOCATION:
DESCRIPTION:\n\n\nAudencia Around the World: the journey continues to Copenhagen\nFor the third year in a row, the small but perfect group of alumni in Copenhagen has the pleasure of inviting graduates and students across Denmark to an informal online gathering. This is a great opportunity to get to know one another better and share ideas about how to keep the connections going! Since the event is taking place online, former and future Danish residents are more than welcome to join!\n\n\n\n	Date: Monday 29 March 2021\n	Time: from 17:00 to 18:00\n	Venue: Online via wonder.me\n\n\n17:00 Welcome message\n17:05 Ice breaker \n17:15 Participants introduce themselves\n17:30 General informal discussions and perhaps even ideas for future alumni events \n17:55 Photobooth and souvenir photos\n18:00 End of event\nTo discover other cities which are hosting an Around the World event, click on the image below\n \n\n\n\n \n\n\nDon't go yet!\nWe have two more messages to share with you:\n\nAudencia Foundation's call for solidarity\n\n\n\n\nNow, more than ever, our international students are in need of critical financial support.\nMake a donation during AATW to help pay living expenses for a struggling student.\nYour donation, in any amount, shows your solidarity with our students who are building the world of tomorrow.\nOur network is our greatest strength!\nFor more information\n\nAround the World photo booth\nDrop by, create your avatar, take your picture, send it/share it, and feature on the group photo that will be published at the end of the event!\nFollow this link\n\n
BEGIN:VALARM
ACTION:DISPLAY
TRIGGER:-PT60M
DESCRIPTION:Audencia Around the World 2021: the journey continues in Copenhagen
END:VALARM
END:VEVENT
END:VCALENDAR