BEGIN:VCALENDAR
VERSION:2.0
X-WR-TIMEZONE:Europe/Paris
PRODID:-//Audencia//NONSGML v1.0//EN
CALSCALE:GREGORIAN
BEGIN:VEVENT
SUMMARY:Audencia Around the World 2021: the journey begins in Paris!
DTSTART:20210325T180000
DTEND:20210325T191500
UID:911
DTSTAMP:20260425T205858
LOCATION:
DESCRIPTION:\n\n\nAudencia Around the World: the journey begins in Paris\n\nThis year's Around the World journey will be fully online but, rest assured, it will be exciting, eye-opening, informative and fun. Audencia's alumni around the globe have been digitally innovative in devising activities for graduates and students worldwide. Join the inaugural event in France before heading off to different countries and continents for virtual visits, happy hours, yoga and more!\n\n\n	Date: Thursday 25 March 2021\n	Time: from 18:00 to 19:15\n	Venue: Online via Teams\n\n\n18:00 Welcome messages from the Dean and Audencia Alumni\n18:10 Intercultural quiz hosted by MBA students Ricardo Arenas & Xinwen Jiang\n18:20 Insights about expatriation and about being an international in France, with:\n\n	Ayush Chandel, MSCPM 20\n	Briana Dilworth, IMM 20\n	Diana Garces, FAM 18\n	Camilla Quental, Audencia professor of HR\n\n18:45 Speednetworking session at wonder.me\n19:15 Closing messages and information about events in the coming week \nTo discover other cities which are hosting an Around the World event, click on the image below\n \n\n\n\n \n\n\nDon't go yet!\nWe have two more messages to share with you:\n\nAudencia Foundation's call for solidarity\n\n\n\n\nNow, more than ever, our international students are in need of critical financial support.\nMake a donation during AATW to help pay living expenses for a struggling student.\nYour donation, in any amount, shows your solidarity with our students who are building the world of tomorrow.\nOur network is our greatest strength!\nFor more information\n\nAround the World photo booth\nDrop by, create your avatar, take your picture, send it/share it, and feature on the group photo that will be published at the end of the event!\nFollow this link\n\n
BEGIN:VALARM
ACTION:DISPLAY
TRIGGER:-PT60M
DESCRIPTION:Audencia Around the World 2021: the journey begins in Paris!
END:VALARM
END:VEVENT
END:VCALENDAR