BEGIN:VCALENDAR
VERSION:2.0
X-WR-TIMEZONE:Europe/Paris
PRODID:-//Audencia//NONSGML v1.0//EN
CALSCALE:GREGORIAN
BEGIN:VEVENT
SUMMARY:Informal business breakfast with the Dean of Audencia during his visit to Abidjan, Ivory Coast
DTSTART:20171003T083000
DTEND:20171003T093000
UID:91
DTSTAMP:20260425T223812
LOCATION:RESTAURANT LA BRASSERIE Sofitel Abidjan Hôtel Ivoire Bd. Hassan II Abidjan Ivory Coast
DESCRIPTION:On the occasion of his business trip to the Ivory Coast, Emeric Peyredieu du Charlat, Dean of Audencia Business School, would be delighted to meet alumni for an informal breakfast at Sofitel's Restaurant La Brasserie\n\n\n\nCome and join him and catch up with all the news from Audencia\n \non Tuesday 3rd October from 8:30 to 9:30am\nat the Sofitel Abidjan Hôtel Ivoire\nRESTAURANT LA BRASSERIE\nBd Hassan II, Abidjan
BEGIN:VALARM
ACTION:DISPLAY
TRIGGER:-PT60M
DESCRIPTION:Informal business breakfast with the Dean of Audencia during his visit to Abidjan, Ivory Coast
END:VALARM
END:VEVENT
END:VCALENDAR