BEGIN:VCALENDAR
VERSION:2.0
X-WR-TIMEZONE:Europe/Paris
PRODID:-//Audencia//NONSGML v1.0//EN
CALSCALE:GREGORIAN
BEGIN:VEVENT
SUMMARY:Career Center Webinar : Salary Negotiation
DTSTART:20210406T180000
DTEND:20260425T205902
UID:908
DTSTAMP:20260425T205902
LOCATION:
DESCRIPTION:Interview questions and styles may change from business to business however there are questions that are commonly known to be asked at most interviews.\n\nJoin the workshop to discover and train for these basic-must-know questions.\n\n\n>> Cliquez ici pour participer à la réunion << 
BEGIN:VALARM
ACTION:DISPLAY
TRIGGER:-PT60M
DESCRIPTION:Career Center Webinar : Salary Negotiation
END:VALARM
END:VEVENT
END:VCALENDAR