BEGIN:VCALENDAR
VERSION:2.0
X-WR-TIMEZONE:Europe/Paris
PRODID:-//Audencia//NONSGML v1.0//EN
CALSCALE:GREGORIAN
BEGIN:VEVENT
SUMMARY:Career Center Webinar : Recrutement à distance : les clés pour réussir !
DTSTART:20210316T180000
DTEND:20260425T205910
UID:906
DTSTAMP:20260425T205910
LOCATION:
DESCRIPTION:Aujourd’hui les entretiens à distance deviennent de plus en plus utilisés par les recruteurs. Vous souhaitez améliorer votre technique ? Comprendre les enjeux d’un entretien à distance pour mieux vous préparer ?\nQue ce soit dans le cadre d’un échange téléphonique ou d’un entretien à distance, ce premier contact de 20/30mn avec l’employeur est crucial.\nCe webinar vous donne les outils pour réussir votre entretien de recrutement ! Rencontrez un consultant Career Center qui vous donnera les trucs et astuces de l'entretien à distance et vous apportera toutes les clés pour vous aider à préparer vos entretiens et tirer le meilleur parti de ces e-recrutements.\n \n\nLien du webinar (Teams) 
BEGIN:VALARM
ACTION:DISPLAY
TRIGGER:-PT60M
DESCRIPTION:Career Center Webinar : Recrutement à distance : les clés pour réussir !
END:VALARM
END:VEVENT
END:VCALENDAR