BEGIN:VCALENDAR
VERSION:2.0
X-WR-TIMEZONE:Europe/Paris
PRODID:-//Audencia//NONSGML v1.0//EN
CALSCALE:GREGORIAN
BEGIN:VEVENT
SUMMARY:Career Center webinar: The keys to successful networking!
DTSTART:20210309T180000
DTEND:20260425T205849
UID:905
DTSTAMP:20260425T205849
LOCATION:
DESCRIPTION:Do you want to develop your network?\nAre you looking to become a better networker?\n\n\nCome and join this webinar where Careers Consultant, Shyla du Cosquer, will share with you simple ways in which you can improve your networking skills.\n\nShe will also share with you advice by career gurus such as Daniel Porot and Steve Dalton.\n\nThis could be really helpful in finding a job, getting market info or changing your career. \n \n\nTuesday 9 March\nFrom 18:00
BEGIN:VALARM
ACTION:DISPLAY
TRIGGER:-PT60M
DESCRIPTION:Career Center webinar: The keys to successful networking!
END:VALARM
END:VEVENT
END:VCALENDAR