BEGIN:VCALENDAR
VERSION:2.0
X-WR-TIMEZONE:Europe/Paris
PRODID:-//Audencia//NONSGML v1.0//EN
CALSCALE:GREGORIAN
BEGIN:VEVENT
SUMMARY:Volunteers Academy - Echanges autour du Plan stratégique ECOS 2025 avec Christophe Germain
DTSTART:20210406T190000
DTEND:20210406T203000
UID:904
DTSTAMP:20260425T210012
LOCATION:
DESCRIPTION:Echanges autour du Plan stratégique ECOS 2025 \n- réservé aux Ambassadeurs Alumni -\n\n \n\nChers Ambassadeurs,\n\nChristophe Germain, Directeur général d’Audencia, vous invite à échanger autour du plan stratégique ECOS 2025, comme annoncé lors du séminaire des Ambassadeurs.\n\n« Audencia ne vise pas à être la meilleure école du monde mais être une école meilleure pour le monde, identifiée en tant que telle sur la scène nationale et internationale »\nAudencia a l’ambition d’inventer un nouveau modèle de Business School. Un modèle plus vertueux, formant et inspirant des femmes et des hommes ‘citoyens du monde’, partageant des valeurs humanistes.\n \n\n\n	\n	Un moment qui vous est dédié, lors duquel Christophe vous présentera ce plan ECOS.\n	\n	\n	L’opportunité pour vous de lui poser toutes vos questions et de mieux comprendre le nouveau cap stratégique de votre Ecole.\n	\n\n\n\n\nComment participer ?\n\n\n	\n	Inscrivez-vous en vous identifiant au préalable. Seuls les Ambassadeurs ont accès à l'inscription.\n	\n	\n	Un lien Teams sera envoyé par e-mail aux inscrits quelques jours avant.\n	\n	\n	Pour info, une session en anglais est également prévue le mercredi 7 avril à 12h (heure française).\n	\n\n\n\nUne question ?\nN’hésitez pas à nous contacter sur audenciaalumni@audencia.com.\n \n\n
BEGIN:VALARM
ACTION:DISPLAY
TRIGGER:-PT60M
DESCRIPTION:Volunteers Academy - Echanges autour du Plan stratégique ECOS 2025 avec Christophe Germain
END:VALARM
END:VEVENT
END:VCALENDAR