BEGIN:VCALENDAR
VERSION:2.0
X-WR-TIMEZONE:Europe/Paris
PRODID:-//Audencia//NONSGML v1.0//EN
CALSCALE:GREGORIAN
BEGIN:VEVENT
SUMMARY:Maquetter - exposition & ateliers
DTSTART:20210304T090000
DTEND:20210304T180000
UID:903
DTSTAMP:20260425T210032
LOCATION:Mediacampus 41 Boulevard de la Prairie au Duc 44200 Nantes
DESCRIPTION:Challengez-vous pendant une journée formatrice à travers des 4 ateliers de création : brainstorming, croquis, prototypage et audiovisuel.\nÀ propos de cet événement\n\n? Créer, comprendre, débattre, expérimenter, choisir, convaincre : quels sont les usages et enjeux des maquettes pour repenser le management et le développement des produits ?\n\nMettez-vous dans la peau d’un développeur produit SEB et retroussez vos manches pour appréhender la démarche du faire et du faire ensemble !\n\n? 2 ans après la sortie de leur livre Maquetter, les entreprises qui innovent avec leur mains, Nicolas Minvielle, Martin Lauquin et Olivier Wathelet vous invite à une journée d’ateliers pour prototyper un nouvel objet unique ! (lien du livre : https://maquetter.fr/ )\n\n? Jeudi 4 mars, au MediaCampus - 41 Boulevard de la prairie des Ducs, 44200 Nantes :\n\n\n	de 9h à 15h30 pour les ateliers\n\n\n\n	de 16h à 17h30 pour la conférence\n\n \n\nINSCRIPTION >\n\n\nAu programme :\n\n? Un atelier brainstorming ? pour maîtriser les clefs de la créativité\n\n? Un atelier croquis ✏️ coaché par Yann Naslain professeur et designer\n\n? Un atelier maquettage ? carton pour apprendre à prototyper rapidement\n\n? Un atelier audiovisuel ? pour expérimenter les tips et astuces de Valentin Notuan\n\n? Conférence exclusive, rencontre et échanges avec Kim Helmbold, VP Design du groupe SEB.\n\nLes auteurs du livre Maquetter reviendront également sur les défis d’un maquettage en entreprise.\n\n \n\n?‍??‍? Attention, en raison de la situation sanitaire, les places sont limitées !\n\n? La conférence sera également retransmise en live. 
BEGIN:VALARM
ACTION:DISPLAY
TRIGGER:-PT60M
DESCRIPTION:Maquetter - exposition & ateliers
END:VALARM
END:VEVENT
END:VCALENDAR