BEGIN:VCALENDAR
VERSION:2.0
X-WR-TIMEZONE:Europe/Paris
PRODID:-//Audencia//NONSGML v1.0//EN
CALSCALE:GREGORIAN
BEGIN:VEVENT
SUMMARY:Club Culture & Management - Cycle "essc economie sociale, solidaire et culturelle" 1/2 : le tiers-lieu, outil hybride à la rescousse du patrimoine ?
DTSTART:20210310T190000
DTEND:20210310T200000
UID:902
DTSTAMP:20260425T205816
LOCATION:
DESCRIPTION:Mercredi 10 mars participez à notre premier débat du cycle « Économie sociale, solidaire et culturelle » avec un webinaire sur les tiers-lieux !\n\n1 800 tiers-lieux ont été recensés en France en 2018 par une mission commanditée par le Ministre de la cohésion des territoires. Le 104, la Recyclerie, les Grands Voisins à Paris, la Friche Belle-de-Mai à Marseille sont des exemples bien connus, tous différents mais avec un point commun : ils ont contribué à redonner vie, au moins temporairement, à un patrimoine bâti souvent dégradé.\n\nVecteurs d’emplois non délocalisables, les tiers-lieux font l’objet d’un grand intérêt de la part des pouvoirs publics et plusieurs programmes visent actuellement à les développer.\n\nDans quelle mesure peuvent-ils constituer un « outil à la rescousse du patrimoine » ?\n\nVenez en débattre avec nos intervenants :\n\n \n\n\n	\n	Denis Meunier, gestionnaire du tiers-lieu Les Usines aux Filatures de Ligugé au sein de l'Association AY128\n	\n	\n	Stéphane Vatinel, fondateur de Sinny & Ooko\n	\n\n\n \n\n \n\n \n\n> En savoir plus et réserver\n\n\nMODALITÉS PRATIQUES :\n\n\n	\n	Le webinaire démarre à 19h\n	\n	\n	Après inscription, vous recevrez un lien Zoom dans l'heure précédant le débat pour vous connecter au webinaire\n	\n	\n	Il y aura un temps pour poser des questions aux intervenants à la fin du débat\n	\n	\n	Tarif unique à 10€\n	\n\n\n \n\n \n\n \n\nAu plaisir de vous retrouver en ligne,\n\nL'équipe du Club Culture & Management
BEGIN:VALARM
ACTION:DISPLAY
TRIGGER:-PT60M
DESCRIPTION:Club Culture & Management - Cycle "essc economie sociale, solidaire et culturelle" 1/2 : le tiers-lieu, outil hybride à la rescousse du patrimoine ?
END:VALARM
END:VEVENT
END:VCALENDAR