BEGIN:VCALENDAR
VERSION:2.0
X-WR-TIMEZONE:Europe/Paris
PRODID:-//Audencia//NONSGML v1.0//EN
CALSCALE:GREGORIAN
BEGIN:VEVENT
SUMMARY:Audencia Alumni Around the World - 25 March to 1 April 2021
DTSTART:20210325T000000
DTEND:20210401T235900
UID:901
DTSTAMP:20260425T205852
LOCATION:
DESCRIPTION:In 2021, Audencia is preparing to go online for a virtual "Around the World" tour to highlight the diversity and dynamism of its international chapters around the globe.\n \n\n	When: from Thursday 25 March to Thursday 1 April\n	Where: from your armchair, wherever you are around the world \n	What: from an informal networking session to an escape game or a musical quizz, Audencia's alumni team (Nushad, Laetitia, Hélène & Katie) are ready to support  ambassadors in bringing events to their community.\n\n\nIt may be online (for this year only), but it can be fun. The Audencia Alumni team continues to support its ambassadors in France around the globe to help them to keep the connection going with their communities. We are being innovative, creative and daring and hope to bring alumni worldwide an antidote to online meetings! Around the World will be a week of experimenting new ways of interacting.\n\nOn the agenda so far:\n \n\n	Thursday 25 March: Launch event, live from Nantes and Paris (all will be revealed soon)\n	Friday 26 March: Networking in Algiers, city quizzin New York\n	Saturday 27 March: Bowling in Sydney\n	Monday 29 March: Happy hour outside in Hong Kong\n	Tuesday 30 March: City tour in Dublin, networking in Luxembourg\n	Thursday 1 April: City tour in Paris and wrap-up\n\n\nSend us a message if you have an idea for your alumni community. And, if you don't have a community, perhaps this is the moment to create one.\n\nTo discover other cities which are hosting an Around the World event, click on the image below\n \n\n\n\n \n\n\nDon't go yet!\nWe have two more messages to share with you:\n\nAudencia Foundation's call for solidarity\n\n\n\n\nNow, more than ever, our international students are in need of critical financial support.\nMake a donation during AATW to help pay living expenses for a struggling student.\nYour donation, in any amount, shows your solidarity with our students who are building the world of tomorrow.\nOur network is our greatest strength!\nFor more information\n\nAround the World photo booth\nDrop by, create your avatar, take your picture, send it/share it, and feature on the group photo that will be published at the end of the event!\nFollow this link\n\n
BEGIN:VALARM
ACTION:DISPLAY
TRIGGER:-PT60M
DESCRIPTION:Audencia Alumni Around the World - 25 March to 1 April 2021
END:VALARM
END:VEVENT
END:VCALENDAR