BEGIN:VCALENDAR
VERSION:2.0
X-WR-TIMEZONE:Europe/Paris
PRODID:-//Audencia//NONSGML v1.0//EN
CALSCALE:GREGORIAN
BEGIN:VEVENT
SUMMARY:MS MOS - Table ronde n°2 - Engagement des sportifs : jusqu'où aller?
DTSTART:20210309T180000
DTEND:20210309T193000
UID:900
DTSTAMP:20260425T205903
LOCATION:
DESCRIPTION:Les étudiants du MS MOS vous invite à sa prochaine table ronde "Engagement des sportifs : jusqu'où aller?" le mardi 9 mars à 18h qui portera sur la question de l'exemplarité des sportifs de haut niveau.\n\nAu programme :\n\n \n\n\n	\n	1er Partie : Evolution de l’influence du sportif\n	\n	\n	2e Partie : Exemplarité du sportif sur et en dehors du terrain\n	\n	\n	3e Partie : La liberté de la parole du sportif\n	\n	\n	4e Partie : Séance de Questions / Réponses\n	\n\n\n\nLes intervenants :\n\n\n	\n	Sylvie Marchal : Formatrice personnal branding et Fondatrice de « Bonne Image »\n	\n	\n	Nadia Benabdelouahed-Yatta : Fondatrice et manager de la Team Clarisse Agbegnenou\n	\n	\n	Stanislas Frenkiel : Historien du Sport - Université d’Artois\n	\n	\n	Eddy Ferhi : Responsable Marketing et Activation chez Asics\n	\n\n\n \n\nA suivre sur la chaîne Twitch de Audencia TV\n\n \n\n \n \n\n
BEGIN:VALARM
ACTION:DISPLAY
TRIGGER:-PT60M
DESCRIPTION:MS MOS - Table ronde n°2 - Engagement des sportifs : jusqu'où aller?
END:VALARM
END:VEVENT
END:VCALENDAR