BEGIN:VCALENDAR
VERSION:2.0
X-WR-TIMEZONE:Europe/Paris
PRODID:-//Audencia//NONSGML v1.0//EN
CALSCALE:GREGORIAN
BEGIN:VEVENT
SUMMARY:International Day - Networking with alumni, Audencia Atlantic Campus, Nantes
DTSTART:20170928T173000
DTEND:20170928T183000
UID:90
DTSTAMP:20260425T205721
LOCATION:Audencia Business School Atlantic Campus 8 route de la Joneliere - Nantes "Salon des Professeurs"
DESCRIPTION:28th September is International Day at Audencia. Throughout the afternoon, students will have the opportunity to attend workshops focusing on international topics.\n\nIf there were any questions that you didn't have to opportunity to ask, come to the "Salon des Professeurs" at 17:30 to meet:\n \n\n	Brice Dufour (GE 11), working at Google in Ireland\n	Eugenia Lao (IMM 12) working at Qeelin in China\n	Cécile Pompei (GE 08), a social entrepreneur in France\n	David Saab (GE 04) working at JP Morgan in the UK\n\n \n\nRegister for this networking event on Tomorrow \nCheck your Tomorrow agenda for exact times and locations of all sessions
BEGIN:VALARM
ACTION:DISPLAY
TRIGGER:-PT60M
DESCRIPTION:International Day - Networking with alumni, Audencia Atlantic Campus, Nantes
END:VALARM
END:VEVENT
END:VCALENDAR