BEGIN:VCALENDAR
VERSION:2.0
X-WR-TIMEZONE:Europe/Paris
PRODID:-//Audencia//NONSGML v1.0//EN
CALSCALE:GREGORIAN
BEGIN:VEVENT
SUMMARY:Club Consulting et Audencia Junior Conseil - En période de crise, le secteur public est-il une source de stabilité pour le monde du conseil ?
DTSTART:20210318T190000
DTEND:20210318T201500
UID:898
DTSTAMP:20260425T205857
LOCATION:
DESCRIPTION:Club Consulting et Audencia Junior Conseil vous proposent une conférence en ligne le 18 mars sur le sujet suivant :\n\n \n\nEn période de crise, le secteur public est-il\nune source de stabilité pour le monde du conseil ?\n\n\nAu programme 3 phases pour comprendre le sujet :\n\n\n	\n	L'explication de l'accompagnement du secteur public des cabinets de conseils\n	\n	\n	Pourquoi cet accompagnement est sujet à certains clichés et que doit-on en retenir ?\n	\n	\n	Quel avenir pour la dimension publique des cabinets de conseils ?\n	\n\n\n\nIntervenant :\n\nMaxim Lepachelet, (GE 18) ambassadeur du Club Défense, Sécurité et Aéronautique et conseiller secteur public et informatique chez BearingPoint\n\n\n\nInterview par :\n\n\nHadrien Outtier, (GE 17) ambassadeur du Club Consulting et consultant sénior chez Bartle\n \n\n\n\n​Valentin Dupont, membre de Audencia Junior Conseil comme responsable Alumni\n\n \n\n \n\nInscriptions obligatoires pour recevoir le lien Teams
BEGIN:VALARM
ACTION:DISPLAY
TRIGGER:-PT60M
DESCRIPTION:Club Consulting et Audencia Junior Conseil - En période de crise, le secteur public est-il une source de stabilité pour le monde du conseil ?
END:VALARM
END:VEVENT
END:VCALENDAR