BEGIN:VCALENDAR
VERSION:2.0
X-WR-TIMEZONE:Europe/Paris
PRODID:-//Audencia//NONSGML v1.0//EN
CALSCALE:GREGORIAN
BEGIN:VEVENT
SUMMARY:ISEGORIA - Conférence/Débat avec Raphaël Glucksmann
DTSTART:20210309T183000
DTEND:20210309T200000
UID:897
DTSTAMP:20260425T205726
LOCATION:
DESCRIPTION:L'association Isegoria a le plaisir de vous inviter à sa prochaine conférence animée par Raphaël Glucksmann, essayiste et homme politique sur le thème "Les jeunes et l'Europe : vers un réengagement ?".\n\nAprès avoir commencé son parcours au lycée Henri IV, Raphaël Glucksmann a intégré Sciences Po Paris. Jeune engagé, il fonde pendant sa scolarité, en 2003, l’association Etudes sans frontières notamment pour aider des étudiants tchétchènes et rwandais à venir étudier en France. Avec l'aide de ces étudiants, il réalise le documentaire "Tuez-les tous" en 2004 sur le génocide rwandais.\n \nEn 2004, il rencontre celui qu’il accompagnera jusqu’en 2012, Mikheil Saakachvili, président de la Géorgie, libéral et atlantiste, dont il va devenir le conseiller.  \n \nDe 2017 à 2018, il fut directeur de la rédaction du Nouveau Magazine littéraire, une revue culturelle orientée à gauche.  \n \nIl fonde ensuite avec Thomas Porcher, Claire Nouvian et Jo Spiegel, le parti politique Place publique. C’est avec ce parti social démocrate et europhile qu’il se présente aux élections européennes de 2019 et est élu député européen. Il a également été désigné vice-président de la sous-commission des droits de l’homme du Parlement européen et élu, en 2020, président de la commission spéciale sur l’ingérence étrangère dans l’ensemble des processus démocratiques de l’Union Européenne.  \n \nNous allons échanger sur son parcours, ses projets, son rôle de député européen et plus précisément sur les jeunes et l’Europe.\n \nACCEDEZ AU LIVE>\n\nVous êtes tous cordialement invités à assister à cette conférence-débat, n’hésitez pas à en faire profiter votre entourage !\n\nLa conférence vous sera proposée en distanciel sur la chaîne Youtube Isegoria.\nÉvènement gratuit \nContact : events@audencia.com 
BEGIN:VALARM
ACTION:DISPLAY
TRIGGER:-PT60M
DESCRIPTION:ISEGORIA - Conférence/Débat avec Raphaël Glucksmann
END:VALARM
END:VEVENT
END:VCALENDAR