BEGIN:VCALENDAR
VERSION:2.0
X-WR-TIMEZONE:Europe/Paris
PRODID:-//Audencia//NONSGML v1.0//EN
CALSCALE:GREGORIAN
BEGIN:VEVENT
SUMMARY:Table-ronde : "Les trésors cachés de l’entreprise : identifier, valoriser, protéger"
DTSTART:20210316T185000
DTEND:20210316T201500
UID:896
DTSTAMP:20260425T205733
LOCATION:
DESCRIPTION:\n \n\nLes actifs immatériels d’une entreprise, droits de propriété intellectuelle, données, méthodes, sont des avantages compétitifs souvent sous-exploités, négligés voire ignorés, de la valeur non-réalisée et méritent qu’on y prête attention.\nIls peuvent constituer de véritables trésors et susciter bien des convoitises. Identifier ces actifs, savoir comment les utiliser et les protéger est un savoir-faire nouveau à développer.\n\n\nNous vous invitons, le mardi 16 mars à 18h50, à une table ronde qui vous permettra de détecter les trésors cachés de votre entreprise en présence de :\n\n\nJean-Daniel Bouhenic, Avocat au barreau de Paris et Associé du cabinet DDG\nIl représente des groupes français et étrangers principalement dans les domaines du luxe, de la mode, de l’agroalimentaire et des nouvelles technologies. Il conseille notamment ses clients en droit de la propriété intellectuelle, sur les stratégies de protection, de gestion et de défense des actifs incorporels dans le cadre de leurs projets ou de leur activité. Il nous éclairera sur l’aspect juridique de ces trésors cachés.\n \n\nKathleen Randerson, PhD, Professeure Associée à Audencia\nSa thèse (2012) et une partie de ses travaux de recherche portent sur l’entrepreneuriat organisationnel - comment les organisations créent des nouvelles activités et comment elles se transforment pour se renouveler. Elle publie régulièrement dans des revues scientifiques internationales reconnues sur des questions liées à l’entrepreneuriat organisationnel, l’entrepreneuriat familial et l’internationalisation. Elle nous éclairera sur l’aspect business de ces trésors cachés.\n\n\nRobin Biron (GE 18 ingénieur-manager), data scientist chez Michelin\nIl travaille actuellement dans la branche R&D du groupe Michelin et intervient notamment sur des sujets d'innovations liés à la mobilité. Son rôle est entre autres de créer de la valeur à partir de données brutes à l'aide d'outils de data science, tels que le machine learning et les statistiques descriptives.\n\n\nKevin Cohen (GE 19 ingénieur-manager), co-fondateur & CEO chez Antiopea - Blockchain Innovative Solutions\nEntrepreneur spécialisé sur la technologie Blockchain, il développe, conseille et accompagne des start-up technologiques dans leur structuration et leur développement ainsi que des grandes entreprises dans leur stratégie d’innovation et de gestion des données collectées.\n \n \n\n\n	Quelles ressources générées par l’activité de l’entreprise peuvent être analysées pour en tirer de la valeur et quelles ressources doivent être maniées avec précaution, ou laissées de côté, sauf à faire courir un risque à l’entreprise ?\n	Quels actifs gardés confidentiels perdent leur protection une fois divulgués…\n	Quels outils permettent de les protéger contre les tentatives d’appropriation illégitimes de concurrents indélicats…\n	Comment valoriser ces actifs au service de la stratégie de l’entreprise… ou pour faire émerger une nouvelle activité ?\n\n\n\nRendez-vous le 16 mars pour répondre à toutes ces questions et bien d’autres.\n\n \n\n\nAccédez à la table-ronde en cliquant ici...\n\nContact Audencia Alumni :\nLaëtitia Caliez, lcaliez@audencia.com\n\n \n\n\n 
BEGIN:VALARM
ACTION:DISPLAY
TRIGGER:-PT60M
DESCRIPTION:Table-ronde : "Les trésors cachés de l’entreprise : identifier, valoriser, protéger"
END:VALARM
END:VEVENT
END:VCALENDAR