BEGIN:VCALENDAR
VERSION:2.0
X-WR-TIMEZONE:Europe/Paris
PRODID:-//Audencia//NONSGML v1.0//EN
CALSCALE:GREGORIAN
BEGIN:VEVENT
SUMMARY:Club Marketing & Digital - Masterclass avec Florence Touzé
DTSTART:20210309T180000
DTEND:20210309T193000
UID:895
DTSTAMP:20260425T205851
LOCATION:
DESCRIPTION:Masterclass avec Florence Touzé le mardi 9 mars à 18h\n\n \n\nMarketing Implicatif et RSE : comment passer d’un métier sous le feu des critiques à une discipline utile et constructive ?\nQuelles sont les stratégies de marques en transformation telles que Eram, Bocage, Pierre Fabre, ou encore de marques "RSE native" telles que Oolution, Léa Nature, Atelier Unes, Love&Green ?\n \nLe marketing, la communication sont aujourd’hui accusés de complicité dans la dégradation de la planète et d’autres maux de société. Pourtant ces métiers peuvent être clés dans la promotion d’un autre monde. Mais il ne suffira pas d’un petit coup de peinture verte, une réforme radicale s’impose, sans naïveté ni manipulation, sans complaisance ni faux semblant. \n \n\nFlorence Touzé a été l’une des premières à remettre en cause sa discipline pour la faire évoluer. Elle propose de passer d’un métier sous le feu des critiques à une discipline utile et constructive, d’oublier le marketing commercial de bout de chaîne, pour en faire une pierre angulaire d’implication, un marketing de fondation.\n\n\nInterview par :\n\n\nBrigitte Neveu-Dérotrie (GE 85), co-animatrice du Club Marketing & Digital, fondatrice de Yélen communication (Conseil & formations réseaux sociaux B2B, Digital branding & communication d'entreprise),\n\n\n\n\navec le soutien de la Junior Entreprise Audencia Alumni et de son président Alexandre Selhuber.\n\n\n \n\nInscriptions obligatoires pour recevoir le lien Zoom
BEGIN:VALARM
ACTION:DISPLAY
TRIGGER:-PT60M
DESCRIPTION:Club Marketing & Digital - Masterclass avec Florence Touzé
END:VALARM
END:VEVENT
END:VCALENDAR