BEGIN:VCALENDAR
VERSION:2.0
X-WR-TIMEZONE:Europe/Paris
PRODID:-//Audencia//NONSGML v1.0//EN
CALSCALE:GREGORIAN
BEGIN:VEVENT
SUMMARY:(Re-) Découvre et engage-toi dans le Club Transitions!
DTSTART:20210224T183000
DTEND:20210224T193000
UID:894
DTSTAMP:20260425T205731
LOCATION:
DESCRIPTION:Le club Alumni "RSE" fait peau neuve !\n\nNouveau nom, nouveaux objectifs pour une nouvelle dynamique !\n\nIl est temps de rassembler et mobiliser les énergies d'Audencia qui oeuvrent pour rendre la société plus inclusive et durable.\n \nParticipez à cette réunion "officielle" de lancement pour connaitre \n\n	La vision et les objectifs du club\n	La possibilité de vous engager (de façon temporaire autour d'un projet / évènement ou de façon plus approfondie)\n	Les évènements / projets à venir\n\nEt en profiter pour\n\n\n	Rencontrer les personnes qui s'engagent dans le réseau Audencia\n	Poser toutes vos questions !\n\n\nRetrouvez-nous ce mercredi 24 février à 18h30 pour une heure de présentation et d'échange en compagnie de l'ambassadeur du Club Transitions, anciennement Club RSE, Nicolas Vergne.\n\nLe lien de l'événement vous sera envoyé par message sur Together un jour avant, le 23 février.\n\nPour nous rejoindre à 18h30 : Cliquez ici pour participer à la réunion\n\n 
BEGIN:VALARM
ACTION:DISPLAY
TRIGGER:-PT60M
DESCRIPTION:(Re-) Découvre et engage-toi dans le Club Transitions!
END:VALARM
END:VEVENT
END:VCALENDAR