BEGIN:VCALENDAR
VERSION:2.0
X-WR-TIMEZONE:Europe/Paris
PRODID:-//Audencia//NONSGML v1.0//EN
CALSCALE:GREGORIAN
BEGIN:VEVENT
SUMMARY:CONCOURS AUDACE : Cérémonie de remise de prix
DTSTART:20210218T190000
DTEND:20210218T203000
UID:893
DTSTAMP:20260425T205736
LOCATION:
DESCRIPTION:Cérémonie de remise de prix\nÀ propos de cet événement\n\nNous vous invitons à suivre la cérémonie de remise de prix du concours Audace qui aura lieu le jeudi 18 février à partir de 19h.\n\nCette soirée sera l'occasion de remettre le prix du public ainsi que le prix du jury aux 3 catégories :\n\n- Jeune pousse\n\n- Accélération\n\n- S3\n\nNous aurons la chance de recevoir des personnalités emblématiques de l'entrepreneuriat. Le programme définitif est en cours de finalisation.\n\nAfin de vous inscrire à l'événement : https://www.eventbrite.fr/e/billets-concours-audace-ceremonie-de-remise-de-prix-137766175339\n \n\nEn espérant vous voir nombreux à cette soirée,\n\nL'équipe de l'association ACE
BEGIN:VALARM
ACTION:DISPLAY
TRIGGER:-PT60M
DESCRIPTION:CONCOURS AUDACE : Cérémonie de remise de prix
END:VALARM
END:VEVENT
END:VCALENDAR