BEGIN:VCALENDAR
VERSION:2.0
X-WR-TIMEZONE:Europe/Paris
PRODID:-//Audencia//NONSGML v1.0//EN
CALSCALE:GREGORIAN
BEGIN:VEVENT
SUMMARY:InterCultural Festival 2021 - Day 1/2
DTSTART:20210318T140000
DTEND:20210318T160000
UID:891
DTSTAMP:20260425T210009
LOCATION:
DESCRIPTION:We are thrilled to announce the start of the InterCultural Festival Vth edition! This flagship event of Audencia is happening for the very FIRST TIME online!\n \n\nA lot of effort has been made to make this an incredible virtual experience, so don’t miss out on this unique opportunity! The ICF event will be held on two separate days:\n\n \n\nSAVE THE DATE : \n\nThursday the 18th of March starting 14:00 (Nantes Time, GMT +1)\n\n&\nSaturday the 20th of March starting 10:00 (Nantes Time, GMT +1)\n\n \n\nWhat is the InterCultural Festival? \n\nIt’s an opportunity to discover the multiculturality of Audencia through various talent shows: dancing, singing, poetry, food… you name it!\n\n\n	Do you have a talent, a workshop, or a cultural activity you want to share with your fellow classmates? Go ahead and register here: https://audencia.eu.qualtrics.com/jfe/form/SV_0HAT7z62HpywIU6\n	Do you want to help us organise this incredible event? This link is for you: https://qfreeaccountssjc1.az1.qualtrics.com/jfe/form/SV_51Qresn3wzr7H38\n	Do you like to take a break from work and have some relaxing time? Click on the "Register" button on this page to secure your place! You'll receive a link to join the event several days beforehand. \n\n\n\nThe surveys will be closed on the 6th of March. For more information about this event, here is a video link (ICF IV) of last year! \n\n\nThe ICF Committee & Alumni Centre
BEGIN:VALARM
ACTION:DISPLAY
TRIGGER:-PT60M
DESCRIPTION:InterCultural Festival 2021 - Day 1/2
END:VALARM
END:VEVENT
END:VCALENDAR