BEGIN:VCALENDAR
VERSION:2.0
X-WR-TIMEZONE:Europe/Paris
PRODID:-//Audencia//NONSGML v1.0//EN
CALSCALE:GREGORIAN
BEGIN:VEVENT
SUMMARY:Club Culture & Management - Cycle "géopolitique de l'économie culturelle" 2/2 : le grand échiquier mondial
DTSTART:20210210T190000
DTEND:20210210T200000
UID:890
DTSTAMP:20260425T205951
LOCATION:
DESCRIPTION:À la faveur d’une crise mondiale, les difficultés financières engendrées représentent des opportunités capitalistiques pour de nouveaux acteurs, au premier rang desquels la Chine.\n\nLa prise de participation progressive de Tencent dans Universal, l’explosion mondiale de Tik Tok, les mouvements de capitaux autour des majors de la musique préfigurent d’une grande secousse pour les Industries Culturelles et Créatives françaises.\n\nNotre place de deuxième exportateur mondial et notre modèle de gestion de la culture pourraient être remis en question.\n\nSi les Etats Unis restent les champions du dynmisme et du finacnement de cette industrie, quels sont les nouveaux acteurs de cette redistribution des cartes ? La France et l’Europe auront-elles toujours une place autour de la table de jeu de ce grand échiquier ?\n\nNous nous intéresserons particulièrement à nos pépites françaises, les start-ups des Industries Culturelles et Créatives que nous sountenons et accompagnons dans le cadre du Prix de l'Innivation.\n\nNous tenterons d’aborder les différents scenarii et opportunités concrètes avec nos experts français à Los Angeles, Paris et San Francisco.\n \n\nIntervenants :\n\n\n	\n	Stéphane EMERET / Représentation et développement de la SACEM aux USA, Conseil auprès des start-ups tech et ICC en duplex de LOS ANGELS.\n	\n	\n	Alexandra JOUCLARD / Avocate au barreau de Paris, spécialisée en droit de la Propriété Intellectuelle et Nouvelles Technologies\n	\n	\n	Aline MANHARDT-HEMMO / PILSOFT - Experte de la transformation numérique et coach pour l'accompagnement des startups en duplex de SAN FRANCISCO\n	\n\n\nModérateur :\n\n\n	\n	Frédéric REBET, le chiffre/Président, Responsable Musique c&m\n	\n\n \n\n> Plus d'informations et réservation\n\n \n\nMODALITÉS PRATIQUES :\n\n\n	\n	Le webinaire démarre à 19h\n	\n	\n	Après inscription, vous recevrez un lien Zoom pour vous connecter au webinaire\n	\n	\n	Il y aura un temps pour poser des questions aux intervenants après le débat\n	\n	\n	Tarif unique à 10€\n	\n\n\n \n\nAu plaisir de vous retrouver en ligne,\n\nL'équipe du Club Culture & Management
BEGIN:VALARM
ACTION:DISPLAY
TRIGGER:-PT60M
DESCRIPTION:Club Culture & Management - Cycle "géopolitique de l'économie culturelle" 2/2 : le grand échiquier mondial
END:VALARM
END:VEVENT
END:VCALENDAR