BEGIN:VCALENDAR
VERSION:2.0
X-WR-TIMEZONE:Europe/Paris
PRODID:-//Audencia//NONSGML v1.0//EN
CALSCALE:GREGORIAN
BEGIN:VEVENT
SUMMARY:International Day - Alumni Round Table, Audencia Atlantic Campus, Nantes
DTSTART:20170928T124500
DTEND:20170928T133000
UID:89
DTSTAMP:20260425T223813
LOCATION:Audencia Business School Atlantic Campus 8 route de la Joneliere - Nantes Auditorium A54
DESCRIPTION:28th September is International Day at Audencia. Throughout the afternoon, students will have the opportunity to attend workshops focusing on international topics.\n\nAudencia is delighted to welcome 4 alumni back to the school who are looking forward to sharing their international experiences and advice.\n\nJoin them at 12:45 in auditorium A54 where they will share advice and talk about their current roles and how their international careers began.\n \n\n	Brice Dufour (GE 11), working at Google in Ireland\n	Eugenia Lao (IMM 12) working at Qeelin in China\n	Cécile Pompei (GE 08), a social entrepreneur in France\n	David Saab (GE 04) working at JP Morgan in the UK\n\n \n\nRegister for the round table conference on Tomorrow\nCheck your Tomorrow agenda for exact times and locations of all sessions
BEGIN:VALARM
ACTION:DISPLAY
TRIGGER:-PT60M
DESCRIPTION:International Day - Alumni Round Table, Audencia Atlantic Campus, Nantes
END:VALARM
END:VEVENT
END:VCALENDAR