BEGIN:VCALENDAR
VERSION:2.0
X-WR-TIMEZONE:Europe/Paris
PRODID:-//Audencia//NONSGML v1.0//EN
CALSCALE:GREGORIAN
BEGIN:VEVENT
SUMMARY:ISEGORIA - Conférence/Débat avec Anais Voy Gillis "Réindustrialiser la France : espoirs ou déboires ?"
DTSTART:20210215T183000
DTEND:20260425T205729
UID:889
DTSTAMP:20260425T205729
LOCATION:
DESCRIPTION:L'association Isegoria a le plaisir de vous inviter à sa prochaine conférence animée par Anaïs Voy-Gillis, docteure en géographie de l'Institut français de géopolitique sur le thème "Réindustrialiser la France : espoirs ou déboires ?".\n\nLa conférence vous sera proposée en distanciel sur la chaîne Youtube Isegoria. \n\n\nAnaïs Voy-Gillis est docteure en géographie de l'Institut français de géopolitique.\nSes travaux portent sur les enjeux et les déterminants de la réindustrialisation de la France.\nSociété post-industrielle, industrie du futur, mondialisation, environnement... dans son dernier essai intitulé "Vers la renaissance industrielle", publié en 2020 et co-écrit avec Olivier Lluansi, elle revient sur les derniers bouleversements traversés par le secteur de l'industrie.\n\nElle travaille également au sein du cabinet June Partners et conduit des missions de conseil opérationnel auprès de clients industriels.\nElle intervient régulièrement dans Les Echos et le Xerfi Canal sur le sujet de la réindustrialisation.\n\nVous êtes tous cordialement invités à assister à cette conférence-débat, n’hésitez pas à en faire profiter votre entourage ! \n\nÉvènement gratuit \nContact : events@audencia.com\n \nACCEDEZ AU LIVE>
BEGIN:VALARM
ACTION:DISPLAY
TRIGGER:-PT60M
DESCRIPTION:ISEGORIA - Conférence/Débat avec Anais Voy Gillis "Réindustrialiser la France : espoirs ou déboires ?"
END:VALARM
END:VEVENT
END:VCALENDAR