BEGIN:VCALENDAR
VERSION:2.0
X-WR-TIMEZONE:Europe/Paris
PRODID:-//Audencia//NONSGML v1.0//EN
CALSCALE:GREGORIAN
BEGIN:VEVENT
SUMMARY:Webinar: How to put CSR at the heart of your company and maximise the business benefits
DTSTART:20210527T130000
DTEND:20210527T140000
UID:887
DTSTAMP:20260425T210025
LOCATION:
DESCRIPTION:How to put CSR at the heart of your company and maximise the business benefits\n\nDate: 27 May 2021\nTime: 13:00-14:00 Paris time\n\nThe world is at a tipping point – climate change, plastic pollution, bush fires, disappearing forests, a global pandemic and explosive conversations about diversity and inclusion. Now, more than ever, it is important for all types of businesses to have authentic corporate social responsibility (CSR) initiatives that are not a publicity spin.\n \nResearch shows that CSR improves long-term business performance and that consumers prefer to patronise organisations with strong histories of social responsibility and are more likely to buy from companies with strong ethical values. Customers and employees are speaking with their values as well as their wallets.\n \nTherefore, CSR is now considered a critical part of a company’s performance and reputation. In this webinar you will learn how to incorporate CSR values into a business strategy and brand. You will also understand the difference between CSR and PR. This will enable you to create strong, enduring brands, where the PR and marketing flows from the CSR values, which will benefit your employees and customers, including investors.\nAbout the speaker\n\nSangeeta Waldron is a multi-award-winning Public Relations professional and runs her own London based agency, Serendipity PR & Media, working across business, arts, culture and books in growth international markets.\nShe is a guest lecturer at Coventry University teaching PR, social media and global journalism, as well as global contributing editor for India CSR Network, the largest news platform on sustainable business news and CSR in India.\n\nSangeeta started out her career writing speeches for a UK pime minister and politicians, and has worked at the top level with big, powerful global brands, which include the Economist Group; The Times Education Supplement; Mayor of London; Cass Business School; and charities. An international speaker. She moderates a panel discussion for Asian Voice newspaper supporting British Asian women in business and sits on boards. Sangeeta recently published her second business book, Corporate Social Responsibility Is Not Public Relations with LID Business Media.\n \n\nTo join the webinar\nREGISTER HERE\n \n\nDid you graduate from an AMBA-accredited programme at Audencia?\nThis webinar is accessible to students or alumni of an AMBA-accredited programme at Audencia, i.e., Executive MBA, EuroMBA, Full-Time MBA or Master in Management (Grande Ecole Programme), but registration is required. Registering as an alum of an AMBA-accredited programme takes only a few minutes.\nThis event is free for AMBA members to attend but registration is required using the link above.
BEGIN:VALARM
ACTION:DISPLAY
TRIGGER:-PT60M
DESCRIPTION:Webinar: How to put CSR at the heart of your company and maximise the business benefits
END:VALARM
END:VEVENT
END:VCALENDAR