BEGIN:VCALENDAR
VERSION:2.0
X-WR-TIMEZONE:Europe/Paris
PRODID:-//Audencia//NONSGML v1.0//EN
CALSCALE:GREGORIAN
BEGIN:VEVENT
SUMMARY:Webinar: What do employers really really want from MBA talent?
DTSTART:20210413T130000
DTEND:20210413T140000
UID:886
DTSTAMP:20260425T210053
LOCATION:
DESCRIPTION:What do employers really really want from MBA talent?\n\nDate: 13 April 2021\nTime: 13:00-14:00 Paris time\n\nThis engaging session will explore why employers hire MBA talent.\n \nThe unprecedented pace and scale of transformational changes to business environments and skills arguably brought about by the fourth industrial revolution coupled with the global pandemic, has led to a situation in which technology is increasingly outpacing individuals’ and organisation’s ability to adapt. Employers are looking for individuals who have the necessary professional and transferable skills to succeed in today’s world of work and this session will cover each of these and why, in context.\n \nThe key for sustainability in today’s turbulent labour market is education and employability so this session will also cover some ideas of how to keep ahead of the game in terms of career success for many years to come.\n \nAbout the speaker\n\nJane Clark joined Talent Collective in 2019 and is Global Head of Emerging Talent Consulting. With a strong track record in talent management and HR change and transformation, she is responsible for leading and defining early career resourcing programmes and solutions for a cross-industry selection of key accounts.\nHer breadth of experience ranges from overseeing complex outsourcing graduate solutions and in-house graduate programmes globally to designing recruitment strategies for multinational organisations.\n\nJane’s client base and associated consulting projects span a number of sectors including healthcare and life sciences, engineering, telecommunications, transportation, IT, investment and retail banking, as well as operating across 50+ countries in Europe, Asia Pacific and the Americas. She brings extensive global leadership experience in early careers resourcing and development, and for the past 20 years has been responsible for building and driving industry award-winning strategic talent plans to attract, recruit, develop and retain best-in-class junior talent. She has worked in a variety of senior roles with companies such as Credit Suisse, Fidelity and Barclays.\n \n\nTo join the webinar\nREGISTER HERE\n \n\nDid you graduate from an AMBA-accredited programme at Audencia?\nThis webinar is accessible to students or alumni of an AMBA-accredited programme at Audencia, i.e., Executive MBA, EuroMBA, Full-Time MBA or Master in Management (Grande Ecole Programme), but registration is required. Registering as an alum of an AMBA-accredited programme takes only a few minutes.\nThis event is free for AMBA members to attend but registration is required using the link above.
BEGIN:VALARM
ACTION:DISPLAY
TRIGGER:-PT60M
DESCRIPTION:Webinar: What do employers really really want from MBA talent?
END:VALARM
END:VEVENT
END:VCALENDAR