BEGIN:VCALENDAR
VERSION:2.0
X-WR-TIMEZONE:Europe/Paris
PRODID:-//Audencia//NONSGML v1.0//EN
CALSCALE:GREGORIAN
BEGIN:VEVENT
SUMMARY:Conférence Iségoria by #Mediacampus : "Entreprendre sur YouTube ou le défi de se renouveler"
DTSTART:20210204T183000
DTEND:20260425T210006
UID:884
DTSTAMP:20260425T210006
LOCATION:
DESCRIPTION:\nL'équipe d'Isegoria by #Mediacampus a le plaisir de vous inviter à sa première conférence en compagnie d'Amixem, de son vrai nom Maxime Chabroud (SCOM 14), YouTubeur et entrepreneur sur le thème :\n \n\nEntreprendre sur YouTube ou le défi de se renouveler\n\n\n\n\nAmixem est le 7ème YouTubeur français le plus influent, avec plus de 6,8 millions d'abonnés.\nC'est en 2012 que Maxime, encore étudiant à Audencia SciencesCom, lance sa chaîne YouTube tournée vers le gaming. Par la suite, Amixem diversifie son contenu avec des vlogs, des reportages ou des vidéos parodiques, en préservant ce ton décalé qui fait mouche.  \nEn 2018, il crée avec d'autres YouTubeurs, la "Redbox", un espace de travail commun consacré à la réalisation de vidéos. Grâce à des vidéos originales et parfois atypiques comme "Duel de blagues nulles" ou "Le jeu le plus facile du monde" il dépasse, en 2020, les 6 millions d'abonnés sur sa chaîne YouTube. Entrepreneur, doubleur, acteur ou chanteur, Amixem exerce d'autres activités en parallèle de sa chaîne YouTube, qui font de lui la personnalité accomplie et émérite que l'on connaît.\n\n\nNous vous invitons à partager ce temps d'échange avec Amixem. N'hésitez pas à en faire profiter votre entourage !\n\n \n\nACCEDEZ AU LIVE...\n \n\nContact : events@audencia.com\n\n\n \n\n\n \n\nIsegoria by #Mediacampus est un nouveau cycle de conférences virtuelles dépendant de l'association Isegoria et porté par les étudiants du programme Audencia SciencesCom. Diffusées en live à partir de la plateforme Twitch, ces rencontres s'intéressent aux évolutions et transformations de la communication et des médias tout en expérimentant de nouveaux formats de diffusion.\n\n 
BEGIN:VALARM
ACTION:DISPLAY
TRIGGER:-PT60M
DESCRIPTION:Conférence Iségoria by #Mediacampus : "Entreprendre sur YouTube ou le défi de se renouveler"
END:VALARM
END:VEVENT
END:VCALENDAR