BEGIN:VCALENDAR
VERSION:2.0
X-WR-TIMEZONE:Europe/Paris
PRODID:-//Audencia//NONSGML v1.0//EN
CALSCALE:GREGORIAN
BEGIN:VEVENT
SUMMARY:Atelier - Explorer la créativité dans les « collabs » : peut-on être trop créatif ?
DTSTART:20210408T180000
DTEND:20210408T191500
UID:883
DTSTAMP:20260425T223845
LOCATION:
DESCRIPTION: \n\nCher réseau,\n\nJe vous propose un atelier « retour d’expérience » le jeudi 8 avril à 18h  pour rebondir sur la conclusion de l’atelier précédant sur les pré-requis de la créativité : Sophie Bovy créatrice de By Cactus co-animera avec moi cet atelier sur toutes les facettes possible des « collabs » … Spoiler alert : pas sûr que l’on puisse être trop créatif ….\n\nEn espérant que cela déclenchera de la créativité pour de nombreuses collabs à créer autour de vous en mode pro autant que perso !!\n\nAu plaisir de vous retrouver, \nBlandine EK\nGE 94\n\nA propos :\n\nBlandine EK : Artiste peintre sur envied1peinture.com, passionnée par le sujet de la créativité, avec un passé de responsable marketing chez Christian Lacroix puis Agnes B et Coty Lancaster.\n\nSophie Bovy : Créatrice de By Cactus : Création, production et distribution de mobilier et aménagements résponsables, savoir faire local et durable\n\n\n
BEGIN:VALARM
ACTION:DISPLAY
TRIGGER:-PT60M
DESCRIPTION:Atelier - Explorer la créativité dans les « collabs » : peut-on être trop créatif ?
END:VALARM
END:VEVENT
END:VCALENDAR