BEGIN:VCALENDAR
VERSION:2.0
X-WR-TIMEZONE:Europe/Paris
PRODID:-//Audencia//NONSGML v1.0//EN
CALSCALE:GREGORIAN
BEGIN:VEVENT
SUMMARY:ISEGORIA - Conférence/Débat avec Sylvia Bergé
DTSTART:20210128T173000
DTEND:20260425T205852
UID:882
DTSTAMP:20260425T205852
LOCATION:
DESCRIPTION:\n\nL'association Isegoria a le plaisir de vous inviter à sa prochaine conférence animée par Sylvia Bergé , comédienne et sociétaire à la Comédie-Française.\nLa conférence portera sur les conséquences des bouleversements de l'année 2020 sur le théâtre et la vie culturelle et vous sera proposée en distanciel via Teams.\n\n\nSylvia Bergé est une comédienne française, 496ème sociétaire de la Comédie-Française.\nA ses débuts, elle joue sous la direction de Jean-Louis Barrault et Philippe Adrien. Elle entre en 1988 à la Comédie-Française, elle en deviendra sociétaire en 1998. Depuis son arrivée dans l'Institution, elle a été dirigée par d’illustres metteurs en scène comme Jacques Lassalle en 1990 pour "l’Emission de télévision" de Michel Vinaver, ou encore Daniel Mesguich en 1997 dans "la Vie Parisienne" de Jacques Offenbach.\nSi elle a joué, à de nombreuses reprises, dans des pièces de théâtre classiques, elle s'illustre dans des pièces plus contemporaines et participe à plusieurs projets innovants de la Comédie-Française. Ainsi, elle joue, en 2016, "Les Damnés" d’après le scénario de Visconti, mise en scène d’Ivo van Hove et en 2017, "La Règle du Jeu" d’après le scénario de Jean Renoir, mise en scène de Christine Jatahy.\nSylvia Bergé interprète plusieurs rôles au théâtre, dans des téléfilms, des séries et réalise de nombreux doublages.\nPlus récemment, avec les confinements et la fermeture des théâtres, elle a participé aux projets de la Comédie-Française, "la Comédie continue" et "la Comédie d’automne", qui visaient à maintenir le lien avec le spectateur. Dans ce cadre, elle lit "La Recherche" de Proust.\n\nVous êtes tous cordialement invités à assister à cette conférence-débat, n’hésitez pas à en faire profiter votre entourage !\n \nINSCRIPTION >\n\nÉvènement gratuit \nContact : events@audencia.com
BEGIN:VALARM
ACTION:DISPLAY
TRIGGER:-PT60M
DESCRIPTION:ISEGORIA - Conférence/Débat avec Sylvia Bergé
END:VALARM
END:VEVENT
END:VCALENDAR