BEGIN:VCALENDAR
VERSION:2.0
X-WR-TIMEZONE:Europe/Paris
PRODID:-//Audencia//NONSGML v1.0//EN
CALSCALE:GREGORIAN
BEGIN:VEVENT
SUMMARY:Webinar - Développer une stratégie social media efficace en 10 étapes
DTSTART:20210127T100000
DTEND:20210127T110000
UID:881
DTSTAMP:20260425T210611
LOCATION:
DESCRIPTION:Monsieur Lucien, fondé par Julien TOURME (Bachelor 08 + SciencesCom 10), propose une série des webinars.\n\n? Le 27 janvier à 10h !\n\n? Au programme : "Développer une stratégie social media efficace en 10 étapes​"\n\n?? Pour s'inscrire, c'est juste ici : http://bit.ly/formations-solidaires-monsieurlucien
BEGIN:VALARM
ACTION:DISPLAY
TRIGGER:-PT60M
DESCRIPTION:Webinar - Développer une stratégie social media efficace en 10 étapes
END:VALARM
END:VEVENT
END:VCALENDAR