BEGIN:VCALENDAR
VERSION:2.0
X-WR-TIMEZONE:Europe/Paris
PRODID:-//Audencia//NONSGML v1.0//EN
CALSCALE:GREGORIAN
BEGIN:VEVENT
SUMMARY:Webinar - Les bonnes questions à se poser pour la conception d'un site ecommerce
DTSTART:20210125T110000
DTEND:20210125T120000
UID:880
DTSTAMP:20260425T210047
LOCATION:
DESCRIPTION:Monsieur Lucien, fondé par Julien TOURME (Bachelor 08 + SciencesCom 10), propose une série des webinars.\n\n? Le 25 janvier à 11h !\n\n? Au programme : "Les bonnes questions à se poser pour la conception d'un site ecommerce​"\n\n?? Pour s'inscrire, c'est juste ici : https://bit.ly/37e2ggS
BEGIN:VALARM
ACTION:DISPLAY
TRIGGER:-PT60M
DESCRIPTION:Webinar - Les bonnes questions à se poser pour la conception d'un site ecommerce
END:VALARM
END:VEVENT
END:VCALENDAR