BEGIN:VCALENDAR
VERSION:2.0
X-WR-TIMEZONE:Europe/Paris
PRODID:-//Audencia//NONSGML v1.0//EN
CALSCALE:GREGORIAN
BEGIN:VEVENT
SUMMARY:Job finding bootcamp with Daniel Porot: HOW can I get an interview and an offer?
DTSTART:20210209T130000
DTEND:20210209T143000
UID:879
DTSTAMP:20260425T205841
LOCATION:
DESCRIPTION:In an economic crisis, every job advert attracts a deluge of applications. It is easy to get discouraged. But the same crisis often generates huge opportunities in the hidden job market for those who know how to access them.\n\nIn this four week bootcamp, Daniel Porot will explain the creative job search techniques he has used to train more than 40,000 job seekers to find fulfilling work.\n\nEveryone who registers receives:\n\n	12 months’ access to the course online\n	Daniel’s unique workbooks and self assessment tools\n	Tickets to three live webinars.\n\nThis bootcamp is a co-production between Porot & Partenaire and Sensible Media Ltd.\n \n30 January-9 February 2021: Interviewing and Negotiating\n\nMost candidates overestimate the usefulness of the open job market (job postings) and underestimate the power of the hidden (unsolicited) and opaque (LinkedIn) job markets. This module introduces participants a range of unconventional techniques to:\n\n	Secure interviews while avoiding the hyper competitive open market;\n	Design CVs and LinkedIn profiles which make candidates unique in the niche they are targeting;\n	Skilfully conduct job interviews, and negotiate salary.\n\n \n\nREGISTER HERE FOR THE LIVE WEBINAR:\nHOW can I get an interview and an offer?\n \n\n\n	Tuesday 9 February 2021\n	13:00-14:30 (Paris time)\n\n \n\n
BEGIN:VALARM
ACTION:DISPLAY
TRIGGER:-PT60M
DESCRIPTION:Job finding bootcamp with Daniel Porot: HOW can I get an interview and an offer?
END:VALARM
END:VEVENT
END:VCALENDAR