BEGIN:VCALENDAR
VERSION:2.0
X-WR-TIMEZONE:Europe/Paris
PRODID:-//Audencia//NONSGML v1.0//EN
CALSCALE:GREGORIAN
BEGIN:VEVENT
SUMMARY:Job finding bootcamp with Daniel Porot: WHERE is my ideal job?
DTSTART:20210126T130000
DTEND:20210126T143000
UID:878
DTSTAMP:20260425T210009
LOCATION:
DESCRIPTION:In an economic crisis, every job advert attracts a deluge of applications. It is easy to get discouraged. But the same crisis often generates huge opportunities in the hidden job market for those who know how to access them.\n\nIn this four week bootcamp, Daniel Porot will explain the creative job search techniques he has used to train more than 40,000 job seekers to find fulfilling work.\n\nEveryone who registers receives:\n\n	12 months’ access to the course online\n	Daniel’s unique workbooks and self assessment tools\n	Tickets to three live webinars.\n\nThis bootcamp is a co-production between Porot & Partenaire and Sensible Media Ltd.\n \n13-29 January 2021: Targeting and Networking\n\nToo often, stress leads to “tunnel vision” job hunts. The Porot method of creative job searching avoids these dead ends by asking participants to:\n\n	Identify six job targets;\n	Validate these targets by talking to people working in similar roles;\n	Networking to find information, contacts and “insider” industry information.\n\n \n\nREGISTER HERE FOR THE LIVE WEBINAR:\nWHERE is my ideal job?\n \n\n\n	Tuesday 26 January 2021\n	13:00-14:30 (Paris time)\n\n\n
BEGIN:VALARM
ACTION:DISPLAY
TRIGGER:-PT60M
DESCRIPTION:Job finding bootcamp with Daniel Porot: WHERE is my ideal job?
END:VALARM
END:VEVENT
END:VCALENDAR