BEGIN:VCALENDAR
VERSION:2.0
X-WR-TIMEZONE:Europe/Paris
PRODID:-//Audencia//NONSGML v1.0//EN
CALSCALE:GREGORIAN
BEGIN:VEVENT
SUMMARY:Webinar : Salary negotiation
DTSTART:20210216T180000
DTEND:20260425T205735
UID:877
DTSTAMP:20260425T205735
LOCATION:
DESCRIPTION:Interview questions and styles may change from business to business however there are questions that are commonly known to be asked at most interviews. Join the workshop to discover and train for these basic must-know questions. \n\nOrganised by your career center. \n 
BEGIN:VALARM
ACTION:DISPLAY
TRIGGER:-PT60M
DESCRIPTION:Webinar : Salary negotiation
END:VALARM
END:VEVENT
END:VCALENDAR